BEGIN:VCALENDAR
VERSION:2.0
PRODID:-//ChamberMaster//Event Calendar 2.0//EN
METHOD:PUBLISH
X-PUBLISHED-TTL:P1H
REFRESH-INTERVAL:P1H
CALSCALE:GREGORIAN
BEGIN:VTIMEZONE
TZID:America/Los_Angeles
BEGIN:DAYLIGHT
RRULE:FREQ=YEARLY;BYMONTH=3;BYDAY=2SU
DTSTART:20070101T000000
TZOFFSETFROM:-0800
TZOFFSETTO:-0700
TZNAME:Pacific Daylight Time
END:DAYLIGHT
BEGIN:STANDARD
RRULE:FREQ=YEARLY;BYMONTH=11;BYDAY=1SU
DTSTART:20070101T000000
TZOFFSETFROM:-0700
TZOFFSETTO:-0800
TZNAME:Pacific Standard Time
END:STANDARD
END:VTIMEZONE
BEGIN:VEVENT
DTSTART;TZID=America/Los_Angeles:20260518T110000
DTEND;TZID=America/Los_Angeles:20260518T120000
X-MICROSOFT-CDO-ALLDAYEVENT:FALSE
SUMMARY:Measure ULA Member Town Hall
DESCRIPTION:Measure ULA is under active review\, and decisions are being shaped now. The City has convened a ULA Ad Hoc Committee to evaluate how the policy is performing and to develop recommendations for potential changes. Those recommendations are expected to go to the full City Council by June 1\, creating a limited window for industry input. BOMA Greater Los Angeles is gathering direct feedback from owners and managers to inform what we bring forward. This virtual town hall is a focused working session to capture real-world insight\, including: How ULA is impacting transactions and deal activity Changes in investment strategy and capital movement Operational impacts at the property level Specific examples of deals that have been delayed\, restructured\, or cancelled Input on potential policy changes\, including carve-outs\, deferrals\, and other adjustments Live polling will be used to capture member sentiment\, and discussion will be structured to ensure input is clear and actionable. If you own\, manage\, or invest in commercial real estate in Los Angeles\, your perspective is critical. This is a real opportunity to influence the conversation while decisions are being made.
X-ALT-DESC;FMTTYPE=text/html:<!DOCTYPE html><html><head><title></title></head><body aria-disabled="false"><p>Measure ULA is under active review\, and decisions are being shaped now.&nbsp\;</p><p>The City has convened a ULA Ad Hoc Committee to evaluate how the policy is performing and to develop recommendations for potential changes. Those recommendations are expected to go to the full City Council by June 1\, creating a limited window for industry input.&nbsp\;</p><p>BOMA Greater Los Angeles is gathering direct feedback from owners and managers to inform what we bring forward.&nbsp\;</p><p>This <strong fr-original-style="" style="font-weight: 700\;">virtual</strong> town hall is a focused working session to capture real-world insight\, including:&nbsp\;</p><ul fr-original-style="" style="list-style-position: inside\;"><li>How ULA is impacting transactions and deal activity&nbsp\;</li><li>Changes in investment strategy and capital movement&nbsp\;</li><li>Operational impacts at the property level&nbsp\;</li><li>Specific examples of deals that have been delayed\, restructured\, or cancelled&nbsp\;</li><li>Input on potential policy changes\, including carve-outs\, deferrals\, and other adjustments&nbsp\;</li></ul><p>Live polling will be used to capture member sentiment\, and discussion will be structured to ensure input is clear and actionable.&nbsp\;</p><p>If you own\, manage\, or invest in commercial real estate in Los Angeles\, your perspective is critical.&nbsp\;</p><p>This is a real opportunity to influence the conversation while decisions are being made.</p></body></html>
LOCATION:
UID:e.1211.1451075
SEQUENCE:3
DTSTAMP:20260425T151512Z
URL:https://infohub.bomagla.org/eventcalendar/Details/measure-ula-member-town-hall-1718807?sourceTypeId=Hub
END:VEVENT
END:VCALENDAR
